BEGIN:VCALENDAR
VERSION:2.0
PRODID:-//Plone.org//NONSGML plone.app.event//EN
X-WR-TIMEZONE:Europe/Madrid
BEGIN:VEVENT
SUMMARY:Aparador d'espectacles: Màgic Músic
DTSTART;TZID=Europe/Madrid;VALUE=DATE-TIME:20190901T190000
DTEND;TZID=Europe/Madrid;VALUE=DATE-TIME:20190901T200000
DTSTAMP;VALUE=DATE-TIME:20260424T120728Z
UID:91aff4a3698274e084976ae5da6fd096
CREATED;VALUE=DATE-TIME:20190901T000000Z
LOCATION:plaça 11 de setembre - En cas de pluja es farà a l'envelat
ORGANIZER:Aparador d'espectacles - ACPO i Àrea de Cultura
DESCRIPTION:Activitat de les Festes de la Mare de Déu de la Misericòrdia
URL:https://www.canetdemar.cat/document.php?id=18001
END:VEVENT
END:VCALENDAR