BEGIN:VCALENDAR
VERSION:2.0
PRODID:-//Plone.org//NONSGML plone.app.event//EN
X-WR-TIMEZONE:Europe/Madrid
BEGIN:VEVENT
SUMMARY:Aparador d'espectacles
DTSTART;TZID=Europe/Madrid;VALUE=DATE-TIME:20190707T193000
DTEND;TZID=Europe/Madrid;VALUE=DATE-TIME:20190707T203000
DTSTAMP;VALUE=DATE-TIME:20260424T105008Z
UID:49904f49ebd97b44c55685eab529f56d
CREATED;VALUE=DATE-TIME:20190707T000000Z
LOCATION:plaça 11 de setembre - En cas de pluja es farà a l'envelat
ORGANIZER:Aparador d'espectacles - ACPO
DESCRIPTION:Activitats de Festa Major
URL:https://www.canetdemar.cat/document.php?id=17999
END:VEVENT
END:VCALENDAR