BEGIN:VCALENDAR
VERSION:2.0
PRODID:-//Plone.org//NONSGML plone.app.event//EN
X-WR-TIMEZONE:Europe/Madrid
BEGIN:VEVENT
SUMMARY:Scape box a la Masoveria
DTSTART;TZID=Europe/Madrid;VALUE=DATE-TIME:20190329T170000
DTEND;TZID=Europe/Madrid;VALUE=DATE-TIME:20190329T180000
DTSTAMP;VALUE=DATE-TIME:20260420T203140Z
UID:5f43d3eb0c4908db496fc22336b5a25d
CREATED;VALUE=DATE-TIME:20190329T000000Z
LOCATION:La Masoveria de Vil·la Flora
ORGANIZER:Àrea de Joventut
DESCRIPTION:Espai Jove
URL:https://www.canetdemar.cat/document.php?id=17995
END:VEVENT
END:VCALENDAR