BEGIN:VCALENDAR
VERSION:2.0
PRODID:-//Plone.org//NONSGML plone.app.event//EN
X-WR-TIMEZONE:Europe/Madrid
BEGIN:VEVENT
SUMMARY:Cicle per la cultura de la Igualtat: Presentació de lectures Panoràmiques del feminisme
DTSTART;TZID=Europe/Madrid;VALUE=DATE-TIME:20190307T190000
DTEND;TZID=Europe/Madrid;VALUE=DATE-TIME:20190307T200000
DTSTAMP;VALUE=DATE-TIME:20260423T102440Z
UID:55057e2a746b561aafa43b8b1139b98f
CREATED;VALUE=DATE-TIME:20190307T000000Z
LOCATION:Sala Cultural Ramon de Capmany
ORGANIZER:Mares Malabaristes
DESCRIPTION:Activitats Dia Internacional de la Dona
URL:https://www.canetdemar.cat/document.php?id=17971
END:VEVENT
END:VCALENDAR