BEGIN:VCALENDAR
VERSION:2.0
PRODID:-//Plone.org//NONSGML plone.app.event//EN
X-WR-TIMEZONE:Europe/Madrid
BEGIN:VEVENT
SUMMARY:Exposició: Veïnes, Ciutadanes
DTSTART;TZID=Europe/Madrid;VALUE=DATE-TIME:20190304T000000
DTEND;TZID=Europe/Madrid;VALUE=DATE-TIME:20190304T010000
DTSTAMP;VALUE=DATE-TIME:20260423T051329Z
UID:5f1001f1765602bc2a1e1c8d56697cbc
CREATED;VALUE=DATE-TIME:20190304T000000Z
LOCATION:Sala Cultural Ramon de Capmany
COMMENT:Durada: del 3 al 10 de març de 2019
DESCRIPTION:Activitats Dia Internacional de la Dona
URL:https://www.canetdemar.cat/document.php?id=17969
END:VEVENT
END:VCALENDAR