BEGIN:VCALENDAR
VERSION:2.0
PRODID:-//Plone.org//NONSGML plone.app.event//EN
X-WR-TIMEZONE:Europe/Madrid
BEGIN:VEVENT
SUMMARY:Hora del conte: Contes d'en Trescebes amb David Estrada
DTSTART;TZID=Europe/Madrid;VALUE=DATE-TIME:20190427T120000
DTEND;TZID=Europe/Madrid;VALUE=DATE-TIME:20190427T130000
DTSTAMP;VALUE=DATE-TIME:20260421T142256Z
UID:452a9533763eb391ac25eccddf5e4baa
CREATED;VALUE=DATE-TIME:20190427T000000Z
LOCATION:Biblioteca P. Gual i Pujadas
ORGANIZER:Biblioteca P. Gual i Pujadas
COMMENT:Preu: Gratuït
URL:https://www.canetdemar.cat/document.php?id=17961
END:VEVENT
END:VCALENDAR