BEGIN:VCALENDAR
VERSION:2.0
PRODID:-//Plone.org//NONSGML plone.app.event//EN
X-WR-TIMEZONE:Europe/Madrid
BEGIN:VEVENT
SUMMARY:Fira d'artesania
DTSTART;TZID=Europe/Madrid;VALUE=DATE-TIME:20190406T100000
DTEND;TZID=Europe/Madrid;VALUE=DATE-TIME:20190406T110000
DTSTAMP;VALUE=DATE-TIME:20260424T185346Z
UID:dd65bd1b72e7ea549393cb6f1be9e960
CREATED;VALUE=DATE-TIME:20190406T000000Z
LOCATION:Riera Sant Domènec i carrer Ample
ORGANIZER:Àrea de Promoció Econòmica i Mares Malabaristes
COMMENT:Durada: De 10.00 a 21.00 hores
URL:https://www.canetdemar.cat/document.php?id=17943
END:VEVENT
END:VCALENDAR