BEGIN:VCALENDAR
VERSION:2.0
PRODID:-//Plone.org//NONSGML plone.app.event//EN
X-WR-TIMEZONE:Europe/Madrid
BEGIN:VEVENT
SUMMARY:XLV Concurs de teatre Premi Pedracastell 2019: Un aire de família d'Agnes Jaqui, Jean Pierre Bachi
DTSTART;TZID=Europe/Madrid;VALUE=DATE-TIME:20190331T180000
DTEND;TZID=Europe/Madrid;VALUE=DATE-TIME:20190331T190000
DTSTAMP;VALUE=DATE-TIME:20260424T141842Z
UID:6af8d292fe85f09b5ac7056eb17a11e1
CREATED;VALUE=DATE-TIME:20190331T000000Z
CATEGORIES:Teatre
LOCATION:Envelat de Vil·la Flora
ORGANIZER:El Centru
COMMENT:Preu: 5 euros socis 7 euros no socis
URL:https://www.canetdemar.cat/document.php?id=17928
END:VEVENT
END:VCALENDAR