BEGIN:VCALENDAR
VERSION:2.0
PRODID:-//Plone.org//NONSGML plone.app.event//EN
X-WR-TIMEZONE:Europe/Madrid
BEGIN:VEVENT
SUMMARY:Premi Pedracastell de teatre: Els arbres moren drets
DTSTART;TZID=Europe/Madrid;VALUE=DATE-TIME:20030202T181500
DTEND;TZID=Europe/Madrid;VALUE=DATE-TIME:20030202T191500
DTSTAMP;VALUE=DATE-TIME:20260422T092503Z
UID:5cf3700ecf70a26e518ea5aca55f0667
CREATED;VALUE=DATE-TIME:20030202T000000Z
URL:https://www.canetdemar.cat/document.php?id=179
END:VEVENT
END:VCALENDAR