BEGIN:VCALENDAR
VERSION:2.0
PRODID:-//Plone.org//NONSGML plone.app.event//EN
X-WR-TIMEZONE:Europe/Madrid
BEGIN:VEVENT
SUMMARY:Kids&Us. Contes en anglès
DTSTART;TZID=Europe/Madrid;VALUE=DATE-TIME:20190504T120000
DTEND;TZID=Europe/Madrid;VALUE=DATE-TIME:20190504T130000
DTSTAMP;VALUE=DATE-TIME:20260426T000838Z
UID:3b8031e22a811c42875a5ea5031a7456
CREATED;VALUE=DATE-TIME:20190504T000000Z
CATEGORIES:Infantils
LOCATION:Biblioteca P. Gual i Pujadas
ORGANIZER:Biblioteca P. Gual i Pujadas/ Kids&Us
COMMENT:Preu: Gratuït
URL:https://www.canetdemar.cat/document.php?id=17894
END:VEVENT
END:VCALENDAR