BEGIN:VCALENDAR
VERSION:2.0
PRODID:-//Plone.org//NONSGML plone.app.event//EN
X-WR-TIMEZONE:Europe/Madrid
BEGIN:VEVENT
SUMMARY:Xerrada amb Manuel Milián Mestre
DTSTART;TZID=Europe/Madrid;VALUE=DATE-TIME:20190222T200000
DTEND;TZID=Europe/Madrid;VALUE=DATE-TIME:20190222T210000
DTSTAMP;VALUE=DATE-TIME:20260421T210339Z
UID:d2387ce0c5ee98960ef6929d2f615d42
CREATED;VALUE=DATE-TIME:20190222T000000Z
LOCATION:Envelat de Vil·la Flora
ORGANIZER:Àgora Canet
URL:https://www.canetdemar.cat/document.php?id=17852
END:VEVENT
END:VCALENDAR