BEGIN:VCALENDAR
VERSION:2.0
PRODID:-//Plone.org//NONSGML plone.app.event//EN
X-WR-TIMEZONE:Europe/Madrid
BEGIN:VEVENT
SUMMARY:Exposició Refugiats
DTSTART;TZID=Europe/Madrid;VALUE=DATE-TIME:20190110T000000
DTEND;TZID=Europe/Madrid;VALUE=DATE-TIME:20190110T010000
DTSTAMP;VALUE=DATE-TIME:20260423T083450Z
UID:a9ab2fc613f7a52d2316adf77f94dd7f
CREATED;VALUE=DATE-TIME:20190110T000000Z
LOCATION:Biblioteca P. Gual i Pujadas
ORGANIZER:Escola Turó del Drac
COMMENT:Durada: Fins al 31 de gener de 2019
URL:https://www.canetdemar.cat/document.php?id=17843
END:VEVENT
END:VCALENDAR