BEGIN:VCALENDAR
VERSION:2.0
PRODID:-//Plone.org//NONSGML plone.app.event//EN
X-WR-TIMEZONE:Europe/Madrid
BEGIN:VEVENT
SUMMARY:Tarda de Samurai Sword
DTSTART;TZID=Europe/Madrid;VALUE=DATE-TIME:20190110T170000
DTEND;TZID=Europe/Madrid;VALUE=DATE-TIME:20190110T180000
DTSTAMP;VALUE=DATE-TIME:20260423T152329Z
UID:ce1618fc4ad75762af089f8c75745678
CREATED;VALUE=DATE-TIME:20190110T000000Z
LOCATION:La Masoveria
ORGANIZER:Àrea de Joventut
URL:https://www.canetdemar.cat/document.php?id=17823
END:VEVENT
END:VCALENDAR