BEGIN:VCALENDAR
VERSION:2.0
PRODID:-//Plone.org//NONSGML plone.app.event//EN
X-WR-TIMEZONE:Europe/Madrid
BEGIN:VEVENT
SUMMARY:Presentació del llibre: Els ocells del jardí a mida real
DTSTART;TZID=Europe/Madrid;VALUE=DATE-TIME:20190125T190000
DTEND;TZID=Europe/Madrid;VALUE=DATE-TIME:20190125T200000
DTSTAMP;VALUE=DATE-TIME:20260426T051254Z
UID:199111095c4b8dba08e58de6ccf3cbc9
CREATED;VALUE=DATE-TIME:20190125T000000Z
CATEGORIES:Literatura
LOCATION:Biblioteca P. Gual i Pujadas
ORGANIZER:Sàlvia, associació de dones de Canet de Mar
COMMENT:Preu: Gratuït
DESCRIPTION:Per Daniele Strauss
URL:https://www.canetdemar.cat/document.php?id=17821
END:VEVENT
END:VCALENDAR