BEGIN:VCALENDAR
VERSION:2.0
PRODID:-//Plone.org//NONSGML plone.app.event//EN
X-WR-TIMEZONE:Europe/Madrid
BEGIN:VEVENT
SUMMARY:Fira d'activitats i recapte de joguines
DTSTART;TZID=Europe/Madrid;VALUE=DATE-TIME:20181223T103000
DTEND;TZID=Europe/Madrid;VALUE=DATE-TIME:20181223T113000
DTSTAMP;VALUE=DATE-TIME:20260424T023438Z
UID:adb285197ca75025efc4db6a26a5abeb
CREATED;VALUE=DATE-TIME:20181223T000000Z
LOCATION:riera Sant Domènec
ORGANIZER:Canet en Acció i Creu roja joventut
COMMENT:Durada: de 10.30 a 13.00 hores
URL:https://www.canetdemar.cat/document.php?id=17798
END:VEVENT
END:VCALENDAR