BEGIN:VCALENDAR
VERSION:2.0
PRODID:-//Plone.org//NONSGML plone.app.event//EN
X-WR-TIMEZONE:Europe/Madrid
BEGIN:VEVENT
SUMMARY:Taller: Vine a cantar rumba amb... Los Sarandongos
DTSTART;TZID=Europe/Madrid;VALUE=DATE-TIME:20181229T150000
DTEND;TZID=Europe/Madrid;VALUE=DATE-TIME:20181229T160000
DTSTAMP;VALUE=DATE-TIME:20260424T152949Z
UID:5d47fbb1f90f98c47b797248012da506
CREATED;VALUE=DATE-TIME:20181229T000000Z
CATEGORIES:Música
LOCATION:Parada Bus Comediants
ORGANIZER:Sàlvia, associació de dones de Canet de Mar
COMMENT:Preu: 20 euros si es vol participar en el taller ó 15 euros si es vol només assistir al concert
DESCRIPTION:A L'Auditori de Barcelona
URL:https://www.canetdemar.cat/document.php?id=17782
END:VEVENT
END:VCALENDAR