BEGIN:VCALENDAR
VERSION:2.0
PRODID:-//Plone.org//NONSGML plone.app.event//EN
X-WR-TIMEZONE:Europe/Madrid
BEGIN:VEVENT
SUMMARY:Hora del conte: Carnestoltes amb la Tieta Mon
DTSTART;TZID=Europe/Madrid;VALUE=DATE-TIME:20190209T120000
DTEND;TZID=Europe/Madrid;VALUE=DATE-TIME:20190209T130000
DTSTAMP;VALUE=DATE-TIME:20260423T220327Z
UID:577eab7b34dddc8aa625b841951e0ac5
CREATED;VALUE=DATE-TIME:20190209T000000Z
CATEGORIES:Infantils
LOCATION:Biblioteca P. Gual i Pujadas
ORGANIZER:Biblioteca P. Gual i Pujadas
COMMENT:Preu: Gratuït
URL:https://www.canetdemar.cat/document.php?id=17779
END:VEVENT
END:VCALENDAR