BEGIN:VCALENDAR
VERSION:2.0
PRODID:-//Plone.org//NONSGML plone.app.event//EN
X-WR-TIMEZONE:Europe/Madrid
BEGIN:VEVENT
SUMMARY:Els tres porquets amb la Fina Gelpí
DTSTART;TZID=Europe/Madrid;VALUE=DATE-TIME:20190126T120000
DTEND;TZID=Europe/Madrid;VALUE=DATE-TIME:20190126T130000
DTSTAMP;VALUE=DATE-TIME:20260423T071224Z
UID:07eb444e86b954d53dce657f13f4c13d
CREATED;VALUE=DATE-TIME:20190126T000000Z
CATEGORIES:Infantils
LOCATION:Biblioteca P. Gual i Pujadas
ORGANIZER:Biblioteca P. Gual i Pujadas
COMMENT:Preu: Gratuït
DESCRIPTION:Hora del conte. Contes pels més nenuts
URL:https://www.canetdemar.cat/document.php?id=17778
END:VEVENT
END:VCALENDAR