BEGIN:VCALENDAR
VERSION:2.0
PRODID:-//Plone.org//NONSGML plone.app.event//EN
X-WR-TIMEZONE:Europe/Madrid
BEGIN:VEVENT
SUMMARY:Ball de Cap d'any amb dj Litus
DTSTART;TZID=Europe/Madrid;VALUE=DATE-TIME:20190101T010000
DTEND;TZID=Europe/Madrid;VALUE=DATE-TIME:20190101T020000
DTSTAMP;VALUE=DATE-TIME:20260424T170442Z
UID:0e716eb9d0e639d0d9775b1df9de446f
CREATED;VALUE=DATE-TIME:20190101T000000Z
LOCATION:Envelat de Vil·la Flora
ORGANIZER:Àrea de Festes
URL:https://www.canetdemar.cat/document.php?id=17767
END:VEVENT
END:VCALENDAR