BEGIN:VCALENDAR
VERSION:2.0
PRODID:-//Plone.org//NONSGML plone.app.event//EN
X-WR-TIMEZONE:Europe/Madrid
BEGIN:VEVENT
SUMMARY:Parc juvenil
DTSTART;TZID=Europe/Madrid;VALUE=DATE-TIME:20181229T170000
DTEND;TZID=Europe/Madrid;VALUE=DATE-TIME:20181229T180000
DTSTAMP;VALUE=DATE-TIME:20260425T010813Z
UID:480d707c99ce4d3fe11a2271f09d9f86
CREATED;VALUE=DATE-TIME:20181229T000000Z
LOCATION:exterior de Vil·la Flora
ORGANIZER:Àrea de Joventut
COMMENT:Durada: 29 i 30 de desembre de 17.00 a 20.00 hores
URL:https://www.canetdemar.cat/document.php?id=17761
END:VEVENT
END:VCALENDAR