BEGIN:VCALENDAR
VERSION:2.0
PRODID:-//Plone.org//NONSGML plone.app.event//EN
X-WR-TIMEZONE:Europe/Madrid
BEGIN:VEVENT
SUMMARY:Mostra d'artesania
DTSTART;TZID=Europe/Madrid;VALUE=DATE-TIME:20181207T100000
DTEND;TZID=Europe/Madrid;VALUE=DATE-TIME:20181207T110000
DTSTAMP;VALUE=DATE-TIME:20260422T020835Z
UID:b039180eb7c2f7262b7e0cf60891ce75
CREATED;VALUE=DATE-TIME:20181207T000000Z
LOCATION:riera Sant Domènec i carrer Ample
ORGANIZER:Associació Mares Malabaristes i Àrea de Promoció Econòmica
COMMENT:Durada: del 7 al 9 de desembre de les 10.00 a les 21.00 hores
URL:https://www.canetdemar.cat/document.php?id=17727
END:VEVENT
END:VCALENDAR