BEGIN:VCALENDAR
VERSION:2.0
PRODID:-//Plone.org//NONSGML plone.app.event//EN
X-WR-TIMEZONE:Europe/Madrid
BEGIN:VEVENT
SUMMARY:Encesa de l'enllumenat nadalenc dels carrers
DTSTART;TZID=Europe/Madrid;VALUE=DATE-TIME:20181130T180000
DTEND;TZID=Europe/Madrid;VALUE=DATE-TIME:20181130T190000
DTSTAMP;VALUE=DATE-TIME:20260420T015338Z
UID:a7130cc13a51cd6d9eb0bdcf8f997792
CREATED;VALUE=DATE-TIME:20181130T000000Z
ORGANIZER:Àrea de Festes
COMMENT:Durada: del 30 de novembre de 2018 fins al 6 de gener de 2019
URL:https://www.canetdemar.cat/document.php?id=17726
END:VEVENT
END:VCALENDAR