BEGIN:VCALENDAR
VERSION:2.0
PRODID:-//Plone.org//NONSGML plone.app.event//EN
X-WR-TIMEZONE:Europe/Madrid
BEGIN:VEVENT
SUMMARY:Cinema Alternatiu: Volverás
DTSTART;TZID=Europe/Madrid;VALUE=DATE-TIME:20030131T220000
DTEND;TZID=Europe/Madrid;VALUE=DATE-TIME:20030131T230000
DTSTAMP;VALUE=DATE-TIME:20260421T141325Z
UID:151a83574999c788e4474c278647ea17
CREATED;VALUE=DATE-TIME:20030131T000000Z
URL:https://www.canetdemar.cat/document.php?id=177
END:VEVENT
END:VCALENDAR