BEGIN:VCALENDAR
VERSION:2.0
PRODID:-//Plone.org//NONSGML plone.app.event//EN
X-WR-TIMEZONE:Europe/Madrid
BEGIN:VEVENT
SUMMARY:cicle de xerrades/tallers per pares i mares entre 6 i 12 anys
DTSTART;TZID=Europe/Madrid;VALUE=DATE-TIME:20181109T173000
DTEND;TZID=Europe/Madrid;VALUE=DATE-TIME:20181109T183000
DTSTAMP;VALUE=DATE-TIME:20260423T032904Z
UID:05362a63a67ef624146358c31ebe66d4
CREATED;VALUE=DATE-TIME:20181109T000000Z
ORGANIZER:Nara
COMMENT:Durada: DE 17.30 a 19.30 hores
URL:https://www.canetdemar.cat/document.php?id=17673
END:VEVENT
END:VCALENDAR