BEGIN:VCALENDAR
VERSION:2.0
PRODID:-//Plone.org//NONSGML plone.app.event//EN
X-WR-TIMEZONE:Europe/Madrid
BEGIN:VEVENT
SUMMARY:Sortida: Palau de la Música catalana: Cobla 2.0
DTSTART;TZID=Europe/Madrid;VALUE=DATE-TIME:20181117T120000
DTEND;TZID=Europe/Madrid;VALUE=DATE-TIME:20181117T130000
DTSTAMP;VALUE=DATE-TIME:20260425T192655Z
UID:144c43c195c97f46758de40a21efc02e
CREATED;VALUE=DATE-TIME:20181117T000000Z
CATEGORIES:Música
LOCATION:Palau de la Música (Barcelona)
ORGANIZER:Sàlvia, associació de dones de Canet de Mar
COMMENT:Preu: 8 euro (Donarem prioritat a les sòcies - entrades limitades)
DESCRIPTION:per la Cobla Sant Jordi-Ciutat de Barcelona
URL:https://www.canetdemar.cat/document.php?id=17672
END:VEVENT
END:VCALENDAR