BEGIN:VCALENDAR
VERSION:2.0
PRODID:-//Plone.org//NONSGML plone.app.event//EN
X-WR-TIMEZONE:Europe/Madrid
BEGIN:VEVENT
SUMMARY:Xerrada: Passos ràpids i fàcils per aconseguir menjar sa
DTSTART;TZID=Europe/Madrid;VALUE=DATE-TIME:20181109T190000
DTEND;TZID=Europe/Madrid;VALUE=DATE-TIME:20181109T200000
DTSTAMP;VALUE=DATE-TIME:20260424T162433Z
UID:57c3f55d1e592ea41e704d2e489b376d
CREATED;VALUE=DATE-TIME:20181109T000000Z
CATEGORIES:Conferència
LOCATION:Sala Cultural Ramon de Capmany
ORGANIZER:Sàlvia, associació de dones de Canet de Mar
COMMENT:Preu: gratuït
DESCRIPTION:Per Helena González, especialitzada en alimentació sana i natural
URL:https://www.canetdemar.cat/document.php?id=17671
END:VEVENT
END:VCALENDAR