BEGIN:VCALENDAR
VERSION:2.0
PRODID:-//Plone.org//NONSGML plone.app.event//EN
X-WR-TIMEZONE:Europe/Madrid
BEGIN:VEVENT
SUMMARY:Xerrada: Joves i Violència masclista
DTSTART;TZID=Europe/Madrid;VALUE=DATE-TIME:20181109T180000
DTEND;TZID=Europe/Madrid;VALUE=DATE-TIME:20181109T190000
DTSTAMP;VALUE=DATE-TIME:20260424T130727Z
UID:1af2a551f6d27a62f66444bc63e3e4f0
CREATED;VALUE=DATE-TIME:20181109T000000Z
LOCATION:Masoveria de Vil·la Flora
ORGANIZER:Àrees de Participació ciutadana i Joventut, Mossos d'esquadra i Policia Local
URL:https://www.canetdemar.cat/document.php?id=17658
END:VEVENT
END:VCALENDAR