BEGIN:VCALENDAR
VERSION:2.0
PRODID:-//Plone.org//NONSGML plone.app.event//EN
X-WR-TIMEZONE:Europe/Madrid
BEGIN:VEVENT
SUMMARY:Concert de Santa Cecília: Misa a 8 amb ministrers de Joan Verdalet i Villancets de Joan Cererols
DTSTART;TZID=Europe/Madrid;VALUE=DATE-TIME:20181125T190000
DTEND;TZID=Europe/Madrid;VALUE=DATE-TIME:20181125T200000
DTSTAMP;VALUE=DATE-TIME:20260424T180957Z
UID:f8aeff2799844aa20da9d4ebde7a386e
CREATED;VALUE=DATE-TIME:20181125T000000Z
CATEGORIES:Música
LOCATION:Parróquia de Sant Pere i Sant Pau
ORGANIZER:Àrea de Cultura
COMMENT:Preu: Gratuït
DESCRIPTION:A càrrec d'Ensemble De Canendi Elegantia
URL:https://www.canetdemar.cat/document.php?id=17655
END:VEVENT
END:VCALENDAR