BEGIN:VCALENDAR
VERSION:2.0
PRODID:-//Plone.org//NONSGML plone.app.event//EN
X-WR-TIMEZONE:Europe/Madrid
BEGIN:VEVENT
SUMMARY:Conferència: "Temps de transició i llengua"
DTSTART;TZID=Europe/Madrid;VALUE=DATE-TIME:20051004T190000
DTEND;TZID=Europe/Madrid;VALUE=DATE-TIME:20051004T200000
DTSTAMP;VALUE=DATE-TIME:20260424T195137Z
UID:0453aa9bc3ae8809ce262815f5e7b674
CREATED;VALUE=DATE-TIME:20051004T000000Z
URL:https://www.canetdemar.cat/document.php?id=1762
END:VEVENT
END:VCALENDAR