BEGIN:VCALENDAR
VERSION:2.0
PRODID:-//Plone.org//NONSGML plone.app.event//EN
X-WR-TIMEZONE:Europe/Madrid
BEGIN:VEVENT
SUMMARY:Xerrada amb Jaume Alonso-Cuevillas
DTSTART;TZID=Europe/Madrid;VALUE=DATE-TIME:20181116T200000
DTEND;TZID=Europe/Madrid;VALUE=DATE-TIME:20181116T210000
DTSTAMP;VALUE=DATE-TIME:20260423T000610Z
UID:6ef7195858f88c48820ae8c98c72349d
CREATED;VALUE=DATE-TIME:20181116T000000Z
LOCATION:Envelat de Vil·la Flora - riera Gavarra s/n
ORGANIZER:Àgora Canet
URL:https://www.canetdemar.cat/document.php?id=17609
END:VEVENT
END:VCALENDAR