BEGIN:VCALENDAR
VERSION:2.0
PRODID:-//Plone.org//NONSGML plone.app.event//EN
X-WR-TIMEZONE:Europe/Madrid
BEGIN:VEVENT
SUMMARY:Taller: Generar connexions professionals de gran impacte
DTSTART;TZID=Europe/Madrid;VALUE=DATE-TIME:20181022T153000
DTEND;TZID=Europe/Madrid;VALUE=DATE-TIME:20181022T163000
DTSTAMP;VALUE=DATE-TIME:20260424T070342Z
UID:6cc3fabc754ae4ffff90ab0b45a2dd07
CREATED;VALUE=DATE-TIME:20181022T000000Z
LOCATION:CRTTT - Escpña de Teixits de Punt - plaça Indústria 1
ORGANIZER:Àrea de Promoció Econòmica
COMMENT:Preu: Gratuït per a empreses i emprenedors/res
Durada: 22 i 29 d'octubre de 15.30 a 19.30 hores
URL:https://www.canetdemar.cat/document.php?id=17602
END:VEVENT
END:VCALENDAR