BEGIN:VCALENDAR
VERSION:2.0
PRODID:-//Plone.org//NONSGML plone.app.event//EN
X-WR-TIMEZONE:Europe/Madrid
BEGIN:VEVENT
SUMMARY:Concert de l'Orquestra Simfònica de Mataró
DTSTART;TZID=Europe/Madrid;VALUE=DATE-TIME:20181007T180000
DTEND;TZID=Europe/Madrid;VALUE=DATE-TIME:20181007T190000
DTSTAMP;VALUE=DATE-TIME:20260421T124441Z
UID:2fef75f20702dedad4b5d060f148f731
CREATED;VALUE=DATE-TIME:20181007T000000Z
LOCATION:Església de Sant Pere i Sant Pau
COMMENT:Preu: entrada lliure
URL:https://www.canetdemar.cat/document.php?id=17590
END:VEVENT
END:VCALENDAR