BEGIN:VCALENDAR
VERSION:2.0
PRODID:-//Plone.org//NONSGML plone.app.event//EN
X-WR-TIMEZONE:Europe/Madrid
BEGIN:VEVENT
SUMMARY:GSAM - Grup de Suport emocional i ajuda mútua
DTSTART;TZID=Europe/Madrid;VALUE=DATE-TIME:20181002T170000
DTEND;TZID=Europe/Madrid;VALUE=DATE-TIME:20181002T180000
DTSTAMP;VALUE=DATE-TIME:20260422T130315Z
UID:41380834f776d0f75f13e68fbcb35b69
CREATED;VALUE=DATE-TIME:20181002T000000Z
URL:https://www.canetdemar.cat/document.php?id=17584
END:VEVENT
END:VCALENDAR