BEGIN:VCALENDAR
VERSION:2.0
PRODID:-//Plone.org//NONSGML plone.app.event//EN
X-WR-TIMEZONE:Europe/Madrid
BEGIN:VEVENT
SUMMARY:Presentació del llibre &OpenCurlyDoubleQuote;Amenaça de sedició&CloseCurlyDoubleQuote; de Maria Aurèlia Capmany - Antologia a cura de Blanca Llum
DTSTART;TZID=Europe/Madrid;VALUE=DATE-TIME:20181109T190000
DTEND;TZID=Europe/Madrid;VALUE=DATE-TIME:20181109T200000
DTSTAMP;VALUE=DATE-TIME:20260423T001326Z
UID:ab93d54e4a3503ecb60919d68c0385ab
CREATED;VALUE=DATE-TIME:20181109T000000Z
CATEGORIES:Literatura
LOCATION:Biblioteca P. Gual i Pujadas
ORGANIZER:Plataforma per la Llengua Canet de Mar
COMMENT:Preu: Gratuït
DESCRIPTION:Acte de l'Any Maria Aurèlia Capmany i cloenda del Correllengua 2018
URL:https://www.canetdemar.cat/document.php?id=17578
END:VEVENT
END:VCALENDAR