BEGIN:VCALENDAR
VERSION:2.0
PRODID:-//Plone.org//NONSGML plone.app.event//EN
X-WR-TIMEZONE:Europe/Madrid
BEGIN:VEVENT
SUMMARY:Vermutsicals: La Folie
DTSTART;TZID=Europe/Madrid;VALUE=DATE-TIME:20180923T123000
DTEND;TZID=Europe/Madrid;VALUE=DATE-TIME:20180923T133000
DTSTAMP;VALUE=DATE-TIME:20260423T070857Z
UID:bab02c47d4ae01c1851ed6b892a2a3c7
CREATED;VALUE=DATE-TIME:20180923T000000Z
LOCATION:plaça Colomer
ORGANIZER:Associació Cultural Plataforma Odèon - ACPO
URL:https://www.canetdemar.cat/document.php?id=17568
END:VEVENT
END:VCALENDAR