BEGIN:VCALENDAR
VERSION:2.0
PRODID:-//Plone.org//NONSGML plone.app.event//EN
X-WR-TIMEZONE:Europe/Madrid
BEGIN:VEVENT
SUMMARY:Taller: Potència la teva idea de negoci introduint la Gamificació
DTSTART;TZID=Europe/Madrid;VALUE=DATE-TIME:20181001T100000
DTEND;TZID=Europe/Madrid;VALUE=DATE-TIME:20181001T110000
DTSTAMP;VALUE=DATE-TIME:20260425T010312Z
UID:6f9e92a196f461dd45da158d6b06781c
CREATED;VALUE=DATE-TIME:20181001T000000Z
LOCATION:Centre Cívic i Cultural Vil·la Flora - riera Gavarra s/n
ORGANIZER:Àrea de Promoció Econòmica
COMMENT:Preu: gratuït per a empreses i emprenedors/res
Durada: 1 i 8 d'octubre de 10.00 a 14.00 hores
URL:https://www.canetdemar.cat/document.php?id=17562
END:VEVENT
END:VCALENDAR