BEGIN:VCALENDAR
VERSION:2.0
PRODID:-//Plone.org//NONSGML plone.app.event//EN
X-WR-TIMEZONE:Europe/Madrid
BEGIN:VEVENT
SUMMARY:Xerrada exposició: &OpenCurlyDoubleQuote;La joguina i el joc als Països Catalans&CloseCurlyDoubleQuote;
DTSTART;TZID=Europe/Madrid;VALUE=DATE-TIME:20181005T190000
DTEND;TZID=Europe/Madrid;VALUE=DATE-TIME:20181005T200000
DTSTAMP;VALUE=DATE-TIME:20260422T112236Z
UID:e96d780b58f92ea7bdb0fef8120664b8
CREATED;VALUE=DATE-TIME:20181005T000000Z
CATEGORIES:Exposició,Mostra,Infantils,Conferència
LOCATION:Sala Cultural Ramon de Capmany
ORGANIZER:Plataforma per la Llengua Canet de Mar
COMMENT:Preu: Gratuït
DESCRIPTION:Activitat del Correllengua 2018
URL:https://www.canetdemar.cat/document.php?id=17520
END:VEVENT
END:VCALENDAR