BEGIN:VCALENDAR
VERSION:2.0
PRODID:-//Plone.org//NONSGML plone.app.event//EN
X-WR-TIMEZONE:Europe/Madrid
BEGIN:VEVENT
SUMMARY:Chomón per la mainada
DTSTART;TZID=Europe/Madrid;VALUE=DATE-TIME:20181005T190000
DTEND;TZID=Europe/Madrid;VALUE=DATE-TIME:20181005T200000
DTSTAMP;VALUE=DATE-TIME:20260422T111648Z
UID:5a1029d3d282e0c2cb3f5eac15fa0db4
CREATED;VALUE=DATE-TIME:20181005T000000Z
CATEGORIES:Cinema
LOCATION:Biblioteca P. Gual i Pujadas. Federació Catalana de cineblubs
ORGANIZER:Biblioteca P. Gual i Pujadas
COMMENT:Preu: Gratuït
DESCRIPTION:Sessió de Filmoteca
URL:https://www.canetdemar.cat/document.php?id=17501
END:VEVENT
END:VCALENDAR