BEGIN:VCALENDAR
VERSION:2.0
PRODID:-//Plone.org//NONSGML plone.app.event//EN
X-WR-TIMEZONE:Europe/Madrid
BEGIN:VEVENT
SUMMARY:Exposició: Carmen Tórtola Valencia
DTSTART;TZID=Europe/Madrid;VALUE=DATE-TIME:20180906T190000
DTEND;TZID=Europe/Madrid;VALUE=DATE-TIME:20180906T200000
DTSTAMP;VALUE=DATE-TIME:20260423T153628Z
UID:60cd642c4bc9aa509aacb3cc2ea38a0e
CREATED;VALUE=DATE-TIME:20180906T000000Z
CATEGORIES:Exposició
LOCATION:Sala Cultural Ramon de Capmany
ORGANIZER:Àrea de Cultura
COMMENT:Durada: del 6 al 16 de setembre- De dimarts a dissabte de 18.00 a 20.30 hores i diumenges i festius de 12.00 a 14.00 hores
DESCRIPTION:La Ballarina de l'Estil Lliure
URL:https://www.canetdemar.cat/document.php?id=17496
END:VEVENT
END:VCALENDAR