BEGIN:VCALENDAR
VERSION:2.0
PRODID:-//Plone.org//NONSGML plone.app.event//EN
X-WR-TIMEZONE:Europe/Madrid
BEGIN:VEVENT
SUMMARY:Visita guiada: el Modernisme i la Casa museu
DTSTART;TZID=Europe/Madrid;VALUE=DATE-TIME:20181103T110000
DTEND;TZID=Europe/Madrid;VALUE=DATE-TIME:20181103T120000
DTSTAMP;VALUE=DATE-TIME:20260423T151733Z
UID:ee9af620f44b6d1594203b71d4d951f5
CREATED;VALUE=DATE-TIME:20181103T000000Z
ORGANIZER:Àrea de Cultura
URL:https://www.canetdemar.cat/document.php?id=17485
END:VEVENT
END:VCALENDAR