BEGIN:VCALENDAR
VERSION:2.0
PRODID:-//Plone.org//NONSGML plone.app.event//EN
X-WR-TIMEZONE:Europe/Madrid
BEGIN:VEVENT
SUMMARY:Pel.lícula: "En el mundo a cada rato"
DTSTART;TZID=Europe/Madrid;VALUE=DATE-TIME:20050915T200000
DTEND;TZID=Europe/Madrid;VALUE=DATE-TIME:20050915T210000
DTSTAMP;VALUE=DATE-TIME:20260423T150926Z
UID:3d45676772d85881a004a3f1a70bf4d8
CREATED;VALUE=DATE-TIME:20050915T000000Z
URL:https://www.canetdemar.cat/document.php?id=1747
END:VEVENT
END:VCALENDAR