BEGIN:VCALENDAR
VERSION:2.0
PRODID:-//Plone.org//NONSGML plone.app.event//EN
X-WR-TIMEZONE:Europe/Madrid
BEGIN:VEVENT
SUMMARY:Vot de Vila
DTSTART;TZID=Europe/Madrid;VALUE=DATE-TIME:20050911T190000
DTEND;TZID=Europe/Madrid;VALUE=DATE-TIME:20050911T200000
DTSTAMP;VALUE=DATE-TIME:20260424T083934Z
UID:33900951dff35f41fb513334e05d76ce
CREATED;VALUE=DATE-TIME:20050911T000000Z
URL:https://www.canetdemar.cat/document.php?id=1742
END:VEVENT
END:VCALENDAR