BEGIN:VCALENDAR
VERSION:2.0
PRODID:-//Plone.org//NONSGML plone.app.event//EN
X-WR-TIMEZONE:Europe/Madrid
BEGIN:VEVENT
SUMMARY:Nit de Teatre a Barcelona: Amants
DTSTART;TZID=Europe/Madrid;VALUE=DATE-TIME:20030130T193000
DTEND;TZID=Europe/Madrid;VALUE=DATE-TIME:20030130T203000
DTSTAMP;VALUE=DATE-TIME:20260422T072432Z
UID:8632be61cb36459706b5e39abf9f61a1
CREATED;VALUE=DATE-TIME:20030130T000000Z
URL:https://www.canetdemar.cat/document.php?id=174
END:VEVENT
END:VCALENDAR