BEGIN:VCALENDAR
VERSION:2.0
PRODID:-//Plone.org//NONSGML plone.app.event//EN
X-WR-TIMEZONE:Europe/Madrid
BEGIN:VEVENT
SUMMARY:XIX edició del concurs de cuita de cargols
DTSTART;TZID=Europe/Madrid;VALUE=DATE-TIME:20050911T180000
DTEND;TZID=Europe/Madrid;VALUE=DATE-TIME:20050911T190000
DTSTAMP;VALUE=DATE-TIME:20260424T193641Z
UID:d4e1c7bcbd539ff714d6b380bc2cd67c
CREATED;VALUE=DATE-TIME:20050911T000000Z
URL:https://www.canetdemar.cat/document.php?id=1739
END:VEVENT
END:VCALENDAR