BEGIN:VCALENDAR
VERSION:2.0
PRODID:-//Plone.org//NONSGML plone.app.event//EN
X-WR-TIMEZONE:Europe/Madrid
BEGIN:VEVENT
SUMMARY:Il·luminació de la façana de la Biblioteca amb els colors de l'arc de Sant Martí
DTSTART;TZID=Europe/Madrid;VALUE=DATE-TIME:20180628T000000
DTEND;TZID=Europe/Madrid;VALUE=DATE-TIME:20180628T010000
DTSTAMP;VALUE=DATE-TIME:20260423T121134Z
UID:4df21353eb0e903cab7df6ec51ac91dd
CREATED;VALUE=DATE-TIME:20180628T000000Z
LOCATION:Façana de la Biblioteca
COMMENT:Durada: 28 i 29 de juny
DESCRIPTION:Dia per l'alliberament de lesbianes, gais, transsexuals, bisexuals i intersexuals
URL:https://www.canetdemar.cat/document.php?id=17351
END:VEVENT
END:VCALENDAR