BEGIN:VCALENDAR
VERSION:2.0
PRODID:-//Plone.org//NONSGML plone.app.event//EN
X-WR-TIMEZONE:Europe/Madrid
BEGIN:VEVENT
SUMMARY:Passejades d'estiu per Canet de Mar
DTSTART;TZID=Europe/Madrid;VALUE=DATE-TIME:20180811T180000
DTEND;TZID=Europe/Madrid;VALUE=DATE-TIME:20180811T190000
DTSTAMP;VALUE=DATE-TIME:20260424T053417Z
UID:19c52cbcbe5cd51ed2d0ff5d5f072872
CREATED;VALUE=DATE-TIME:20180811T000000Z
LOCATION:Casa museu Lluís Domènech i Montaner
ORGANIZER:Casa museu Lluís Domènech i Montaner
DESCRIPTION:en castellà
URL:https://www.canetdemar.cat/document.php?id=17328
END:VEVENT
END:VCALENDAR