BEGIN:VCALENDAR
VERSION:2.0
PRODID:-//Plone.org//NONSGML plone.app.event//EN
X-WR-TIMEZONE:Europe/Madrid
BEGIN:VEVENT
SUMMARY:Composició poeticomusical: &OpenCurlyDoubleQuote;Per l'ull de les escales queien cançons a raig&CloseCurlyDoubleQuote;, a càrrec de Jaume Calatayud i Vicente Monera
DTSTART;TZID=Europe/Madrid;VALUE=DATE-TIME:20181011T213000
DTEND;TZID=Europe/Madrid;VALUE=DATE-TIME:20181011T223000
DTSTAMP;VALUE=DATE-TIME:20260424T102715Z
UID:92164698f08e2d65f079ecce78b5228a
CREATED;VALUE=DATE-TIME:20181011T000000Z
CATEGORIES:Música
LOCATION:Sala Cultural Ramon de Capmany
ORGANIZER:Plataforma per la Llengua Canet de Mar
COMMENT:Preu: Gratuït
DESCRIPTION:Activitat del Correllengua 2018 / Homenatge a la Nova Cançó
URL:https://www.canetdemar.cat/document.php?id=17323
END:VEVENT
END:VCALENDAR