BEGIN:VCALENDAR
VERSION:2.0
PRODID:-//Plone.org//NONSGML plone.app.event//EN
X-WR-TIMEZONE:Europe/Madrid
BEGIN:VEVENT
SUMMARY:Exposició de Dibuix Artístic
DTSTART;TZID=Europe/Madrid;VALUE=DATE-TIME:20180705T183000
DTEND;TZID=Europe/Madrid;VALUE=DATE-TIME:20180705T193000
DTSTAMP;VALUE=DATE-TIME:20260424T170534Z
UID:22c804ca225bc636ea5b2b061e865833
CREATED;VALUE=DATE-TIME:20180705T000000Z
CATEGORIES:Exposició
LOCATION:Sala Cultural Ramon de Capmany
ORGANIZER:Escola de Música de Canet de Mar
COMMENT:Durada: del 5 al 8 de juliol - de 18.30 a 20.00 hores
DESCRIPTION:a càrrec dels alumnes de dibuix de l'EMC
URL:https://www.canetdemar.cat/document.php?id=17304
END:VEVENT
END:VCALENDAR