BEGIN:VCALENDAR
VERSION:2.0
PRODID:-//Plone.org//NONSGML plone.app.event//EN
X-WR-TIMEZONE:Europe/Madrid
BEGIN:VEVENT
SUMMARY:IV campionat de Truc
DTSTART;TZID=Europe/Madrid;VALUE=DATE-TIME:20050904T083000
DTEND;TZID=Europe/Madrid;VALUE=DATE-TIME:20050904T093000
DTSTAMP;VALUE=DATE-TIME:20260425T161015Z
UID:d4872303e5e3526c228e44ab7e62323c
CREATED;VALUE=DATE-TIME:20050904T000000Z
URL:https://www.canetdemar.cat/document.php?id=1730
END:VEVENT
END:VCALENDAR