BEGIN:VCALENDAR
VERSION:2.0
PRODID:-//Plone.org//NONSGML plone.app.event//EN
X-WR-TIMEZONE:Europe/Madrid
BEGIN:VEVENT
SUMMARY:Milla Urbana de Canet de Mar
DTSTART;TZID=Europe/Madrid;VALUE=DATE-TIME:20180617T100000
DTEND;TZID=Europe/Madrid;VALUE=DATE-TIME:20180617T110000
DTSTAMP;VALUE=DATE-TIME:20260424T152404Z
UID:b4021d2a015d7d4285cae0c268df525c
CREATED;VALUE=DATE-TIME:20180617T000000Z
LOCATION:passeig Marítim, davant de l'estació del tren
ORGANIZER:Sport Canet
URL:https://www.canetdemar.cat/document.php?id=17273
END:VEVENT
END:VCALENDAR